Package: DiffLogo Version: 2.33.0 Command: rm -rf DiffLogo.buildbin-libdir && mkdir DiffLogo.buildbin-libdir && /Users/biocbuild/BBS/utils/build-universal.sh DiffLogo_2.33.0.tar.gz /Library/Frameworks/R.framework/Resources/bin/R DiffLogo.buildbin-libdir StartedAt: 2025-10-25 01:37:23 -0400 (Sat, 25 Oct 2025) EndedAt: 2025-10-25 01:37:31 -0400 (Sat, 25 Oct 2025) EllapsedTime: 8.1 seconds RetCode: 0 Status: OK PackageFile: DiffLogo_2.33.0.tgz PackageFileSize: 1.059 MiB