Package: DiffBind Version: 3.20.0 Command: /home/biocbuild/R/R/bin/R CMD INSTALL DiffBind StartedAt: 2025-11-20 22:46:46 -0000 (Thu, 20 Nov 2025) EndedAt: 2025-11-20 22:48:29 -0000 (Thu, 20 Nov 2025) EllapsedTime: 103.2 seconds RetCode: 0 Status: OK