Package: DiffBind Version: 3.20.0 Command: /home/biocbuild/R/R/bin/R CMD build --keep-empty-dirs --no-resave-data DiffBind StartedAt: 2025-11-21 01:53:01 -0000 (Fri, 21 Nov 2025) EndedAt: 2025-11-21 01:58:03 -0000 (Fri, 21 Nov 2025) EllapsedTime: 302.2 seconds RetCode: 0 Status: OK PackageFile: DiffBind_3.20.0.tar.gz PackageFileSize: 6.473 MiB