Package: DiffBind Version: 3.19.0 Command: /home/biocbuild/bbs-3.22-bioc/R/bin/R CMD INSTALL DiffBind StartedAt: 2025-10-24 16:06:28 -0400 (Fri, 24 Oct 2025) EndedAt: 2025-10-24 16:07:42 -0400 (Fri, 24 Oct 2025) EllapsedTime: 74.2 seconds RetCode: 0 Status: OK