Package: DiffBind Version: 3.19.0 Command: /home/biocbuild/bbs-3.22-bioc/R/bin/R CMD check --install=check:DiffBind.install-out.txt --library=/home/biocbuild/bbs-3.22-bioc/R/site-library --timings DiffBind_3.19.0.tar.gz StartedAt: 2025-10-24 23:06:23 -0400 (Fri, 24 Oct 2025) EndedAt: 2025-10-24 23:18:43 -0400 (Fri, 24 Oct 2025) EllapsedTime: 739.6 seconds RetCode: 0 Status: OK CheckDir: DiffBind.Rcheck Warnings: 0