Package: DiffBind Version: 3.19.0 Command: /Library/Frameworks/R.framework/Resources/bin/R CMD INSTALL DiffBind StartedAt: 2025-10-24 15:54:57 -0400 (Fri, 24 Oct 2025) EndedAt: 2025-10-24 15:56:41 -0400 (Fri, 24 Oct 2025) EllapsedTime: 103.9 seconds RetCode: 0 Status: OK