Package: DiffBind Version: 3.19.0 Command: /Library/Frameworks/R.framework/Resources/bin/R CMD build --keep-empty-dirs --no-resave-data DiffBind StartedAt: 2025-10-24 16:51:56 -0400 (Fri, 24 Oct 2025) EndedAt: 2025-10-24 16:56:15 -0400 (Fri, 24 Oct 2025) EllapsedTime: 259.1 seconds RetCode: 0 Status: OK PackageFile: DiffBind_3.19.0.tar.gz PackageFileSize: 6.477 MiB