Package: DiffBind Version: 3.19.0 Command: rm -rf DiffBind.buildbin-libdir && mkdir DiffBind.buildbin-libdir && /Users/biocbuild/BBS/utils/build-universal.sh DiffBind_3.19.0.tar.gz /Library/Frameworks/R.framework/Resources/bin/R DiffBind.buildbin-libdir StartedAt: 2025-10-25 01:37:17 -0400 (Sat, 25 Oct 2025) EndedAt: 2025-10-25 01:39:07 -0400 (Sat, 25 Oct 2025) EllapsedTime: 109.8 seconds RetCode: 0 Status: OK PackageFile: DiffBind_3.19.0.tgz PackageFileSize: 7.096 MiB