Package: DepecheR Version: 1.25.0 Command: /home/biocbuild/bbs-3.22-bioc/R/bin/R CMD INSTALL DepecheR StartedAt: 2025-10-27 15:12:43 -0400 (Mon, 27 Oct 2025) EndedAt: 2025-10-27 15:13:18 -0400 (Mon, 27 Oct 2025) EllapsedTime: 34.5 seconds RetCode: 0 Status: OK