Package: DepInfeR Version: 1.14.0 Command: /Library/Frameworks/R.framework/Resources/bin/R CMD INSTALL DepInfeR StartedAt: 2025-11-10 15:03:24 -0500 (Mon, 10 Nov 2025) EndedAt: 2025-11-10 15:03:38 -0500 (Mon, 10 Nov 2025) EllapsedTime: 13.9 seconds RetCode: 0 Status: OK