Package: DepInfeR Version: 1.14.0 Command: /Library/Frameworks/R.framework/Resources/bin/R CMD build --keep-empty-dirs --no-resave-data DepInfeR StartedAt: 2025-11-10 16:11:05 -0500 (Mon, 10 Nov 2025) EndedAt: 2025-11-10 16:11:23 -0500 (Mon, 10 Nov 2025) EllapsedTime: 17.2 seconds RetCode: 0 Status: OK PackageFile: DepInfeR_1.14.0.tar.gz PackageFileSize: 2.351 MiB