Package: DelayedTensor Version: 1.16.0 Command: /home/biocbuild/R/R/bin/R CMD check --install=check:DelayedTensor.install-out.txt --library=/home/biocbuild/R/R/site-library --no-vignettes --timings DelayedTensor_1.16.0.tar.gz StartedAt: 2025-11-14 08:43:22 -0000 (Fri, 14 Nov 2025) EndedAt: 2025-11-14 08:51:06 -0000 (Fri, 14 Nov 2025) EllapsedTime: 463.4 seconds RetCode: 0 Status: WARNINGS CheckDir: DelayedTensor.Rcheck Warnings: 2