Package: DelayedTensor Version: 1.15.0 Command: /home/biocbuild/R/R/bin/R CMD build --keep-empty-dirs --no-resave-data DelayedTensor StartedAt: 2025-10-20 23:16:34 -0000 (Mon, 20 Oct 2025) EndedAt: 2025-10-20 23:21:47 -0000 (Mon, 20 Oct 2025) EllapsedTime: 313.1 seconds RetCode: 0 Status: OK PackageFile: DelayedTensor_1.15.0.tar.gz PackageFileSize: 4.385 MiB