Package: DelayedTensor Version: 1.15.0 Command: /home/biocbuild/bbs-3.22-bioc/R/bin/R CMD build --keep-empty-dirs --no-resave-data --md5 DelayedTensor StartedAt: 2025-10-24 17:24:35 -0400 (Fri, 24 Oct 2025) EndedAt: 2025-10-24 17:27:31 -0400 (Fri, 24 Oct 2025) EllapsedTime: 176.2 seconds RetCode: 0 Status: OK PackageFile: DelayedTensor_1.15.0.tar.gz PackageFileSize: 4.131 MiB