Package: DelayedTensor Version: 1.15.0 Command: /Library/Frameworks/R.framework/Resources/bin/R CMD INSTALL DelayedTensor StartedAt: 2025-10-24 15:54:58 -0400 (Fri, 24 Oct 2025) EndedAt: 2025-10-24 15:55:37 -0400 (Fri, 24 Oct 2025) EllapsedTime: 38.9 seconds RetCode: 0 Status: OK