Package: DelayedTensor Version: 1.15.0 Command: rm -rf DelayedTensor.buildbin-libdir && mkdir DelayedTensor.buildbin-libdir && /Users/biocbuild/BBS/utils/build-universal.sh DelayedTensor_1.15.0.tar.gz /Library/Frameworks/R.framework/Resources/bin/R DelayedTensor.buildbin-libdir StartedAt: 2025-10-25 01:36:35 -0400 (Sat, 25 Oct 2025) EndedAt: 2025-10-25 01:37:17 -0400 (Sat, 25 Oct 2025) EllapsedTime: 42.1 seconds RetCode: 0 Status: OK PackageFile: DelayedTensor_1.15.0.tgz PackageFileSize: 3.094 MiB