Package: DelayedTensor Version: 1.15.0 Command: /Library/Frameworks/R.framework/Resources/bin/R CMD INSTALL DelayedTensor StartedAt: 2025-10-26 15:29:10 -0400 (Sun, 26 Oct 2025) EndedAt: 2025-10-26 15:29:23 -0400 (Sun, 26 Oct 2025) EllapsedTime: 12.5 seconds RetCode: 0 Status: OK