Package: DelayedTensor Version: 1.15.0 Command: /Library/Frameworks/R.framework/Resources/bin/R CMD check --install=check:DelayedTensor.install-out.txt --library=/Library/Frameworks/R.framework/Resources/library --no-vignettes --timings DelayedTensor_1.15.0.tar.gz StartedAt: 2025-10-26 19:28:39 -0400 (Sun, 26 Oct 2025) EndedAt: 2025-10-26 19:30:41 -0400 (Sun, 26 Oct 2025) EllapsedTime: 121.5 seconds RetCode: 0 Status: WARNINGS CheckDir: DelayedTensor.Rcheck Warnings: 2