Package: DelayedTensor Version: 1.15.0 Command: /Library/Frameworks/R.framework/Resources/bin/R CMD build --keep-empty-dirs --no-resave-data DelayedTensor StartedAt: 2025-10-26 16:11:43 -0400 (Sun, 26 Oct 2025) EndedAt: 2025-10-26 16:12:44 -0400 (Sun, 26 Oct 2025) EllapsedTime: 61.6 seconds RetCode: 0 Status: OK PackageFile: DelayedTensor_1.15.0.tar.gz PackageFileSize: 4.129 MiB