Package: DelayedRandomArray Version: 1.17.0 Command: /home/biocbuild/R/R/bin/R CMD check --install=check:DelayedRandomArray.install-out.txt --library=/home/biocbuild/R/R/site-library --no-vignettes --timings DelayedRandomArray_1.17.0.tar.gz StartedAt: 2025-10-21 07:19:44 -0000 (Tue, 21 Oct 2025) EndedAt: 2025-10-21 07:23:09 -0000 (Tue, 21 Oct 2025) EllapsedTime: 205.1 seconds RetCode: 0 Status: OK CheckDir: DelayedRandomArray.Rcheck Warnings: 0