Package: DelayedRandomArray Version: 1.17.0 Command: /home/biocbuild/R/R/bin/R CMD build --keep-empty-dirs --no-resave-data DelayedRandomArray StartedAt: 2025-10-20 23:16:25 -0000 (Mon, 20 Oct 2025) EndedAt: 2025-10-20 23:17:22 -0000 (Mon, 20 Oct 2025) EllapsedTime: 57.0 seconds RetCode: 0 Status: OK PackageFile: DelayedRandomArray_1.17.0.tar.gz PackageFileSize: 385.6 KiB