Package: DelayedRandomArray Version: 1.17.0 Command: /Library/Frameworks/R.framework/Resources/bin/R CMD check --install=check:DelayedRandomArray.install-out.txt --library=/Library/Frameworks/R.framework/Resources/library --no-vignettes --timings DelayedRandomArray_1.17.0.tar.gz StartedAt: 2025-10-24 20:42:01 -0400 (Fri, 24 Oct 2025) EndedAt: 2025-10-24 20:44:41 -0400 (Fri, 24 Oct 2025) EllapsedTime: 160.2 seconds RetCode: 0 Status: OK CheckDir: DelayedRandomArray.Rcheck Warnings: 0