Package: DelayedRandomArray Version: 1.17.0 Command: /Library/Frameworks/R.framework/Resources/bin/R CMD INSTALL DelayedRandomArray StartedAt: 2025-10-24 15:11:07 -0400 (Fri, 24 Oct 2025) EndedAt: 2025-10-24 15:11:19 -0400 (Fri, 24 Oct 2025) EllapsedTime: 11.8 seconds RetCode: 0 Status: OK