Package: DelayedMatrixStats Version: 1.31.0 Command: /home/biocbuild/R/R/bin/R CMD INSTALL DelayedMatrixStats StartedAt: 2025-10-23 20:36:21 -0000 (Thu, 23 Oct 2025) EndedAt: 2025-10-23 20:36:48 -0000 (Thu, 23 Oct 2025) EllapsedTime: 27.2 seconds RetCode: 0 Status: OK