Package: DelayedMatrixStats Version: 1.31.0 Command: /home/biocbuild/R/R/bin/R CMD build --keep-empty-dirs --no-resave-data DelayedMatrixStats StartedAt: 2025-10-20 23:16:17 -0000 (Mon, 20 Oct 2025) EndedAt: 2025-10-20 23:22:46 -0000 (Mon, 20 Oct 2025) EllapsedTime: 389.1 seconds RetCode: 0 Status: OK PackageFile: DelayedMatrixStats_1.31.0.tar.gz PackageFileSize: 289 KiB