Package: DelayedMatrixStats Version: 1.31.0 Command: /home/biocbuild/bbs-3.22-bioc/R/bin/R CMD check --install=check:DelayedMatrixStats.install-out.txt --library=/home/biocbuild/bbs-3.22-bioc/R/site-library --timings DelayedMatrixStats_1.31.0.tar.gz StartedAt: 2025-10-24 22:58:00 -0400 (Fri, 24 Oct 2025) EndedAt: 2025-10-24 23:06:48 -0400 (Fri, 24 Oct 2025) EllapsedTime: 528.5 seconds RetCode: 0 Status: OK CheckDir: DelayedMatrixStats.Rcheck Warnings: 0