Package: DelayedMatrixStats Version: 1.31.0 Command: /home/biocbuild/bbs-3.22-bioc/R/bin/R CMD build --keep-empty-dirs --no-resave-data --md5 DelayedMatrixStats StartedAt: 2025-10-24 17:24:29 -0400 (Fri, 24 Oct 2025) EndedAt: 2025-10-24 17:28:39 -0400 (Fri, 24 Oct 2025) EllapsedTime: 250.2 seconds RetCode: 0 Status: OK PackageFile: DelayedMatrixStats_1.31.0.tar.gz PackageFileSize: 267.9 KiB