Package: DelayedMatrixStats Version: 1.31.0 Command: /Library/Frameworks/R.framework/Resources/bin/R CMD check --install=check:DelayedMatrixStats.install-out.txt --library=/Library/Frameworks/R.framework/Resources/library --no-vignettes --timings DelayedMatrixStats_1.31.0.tar.gz StartedAt: 2025-10-26 19:28:25 -0400 (Sun, 26 Oct 2025) EndedAt: 2025-10-26 19:30:04 -0400 (Sun, 26 Oct 2025) EllapsedTime: 99.3 seconds RetCode: 0 Status: OK CheckDir: DelayedMatrixStats.Rcheck Warnings: 0