Package: DelayedMatrixStats Version: 1.31.0 Command: /Library/Frameworks/R.framework/Resources/bin/R CMD build --keep-empty-dirs --no-resave-data DelayedMatrixStats StartedAt: 2025-10-27 16:10:10 -0400 (Mon, 27 Oct 2025) EndedAt: 2025-10-27 16:11:50 -0400 (Mon, 27 Oct 2025) EllapsedTime: 100.1 seconds RetCode: 0 Status: OK PackageFile: DelayedMatrixStats_1.31.0.tar.gz PackageFileSize: 264.2 KiB