Package: DelayedDataFrame Version: 1.25.0 Command: /home/biocbuild/R/R/bin/R CMD check --install=check:DelayedDataFrame.install-out.txt --library=/home/biocbuild/R/R/site-library --no-vignettes --timings DelayedDataFrame_1.25.0.tar.gz StartedAt: 2025-10-21 07:19:39 -0000 (Tue, 21 Oct 2025) EndedAt: 2025-10-21 07:22:12 -0000 (Tue, 21 Oct 2025) EllapsedTime: 153.1 seconds RetCode: 0 Status: OK CheckDir: DelayedDataFrame.Rcheck Warnings: 0