Package: DelayedDataFrame Version: 1.25.0 Command: /home/biocbuild/bbs-3.22-bioc/R/bin/R CMD INSTALL DelayedDataFrame StartedAt: 2025-10-24 15:34:15 -0400 (Fri, 24 Oct 2025) EndedAt: 2025-10-24 15:34:33 -0400 (Fri, 24 Oct 2025) EllapsedTime: 17.6 seconds RetCode: 0 Status: OK