Package: DelayedDataFrame Version: 1.25.0 Command: /home/biocbuild/bbs-3.22-bioc/R/bin/R CMD check --install=check:DelayedDataFrame.install-out.txt --library=/home/biocbuild/bbs-3.22-bioc/R/site-library --timings DelayedDataFrame_1.25.0.tar.gz StartedAt: 2025-10-24 22:57:55 -0400 (Fri, 24 Oct 2025) EndedAt: 2025-10-24 23:00:03 -0400 (Fri, 24 Oct 2025) EllapsedTime: 128.1 seconds RetCode: 0 Status: OK CheckDir: DelayedDataFrame.Rcheck Warnings: 0