Package: DelayedDataFrame Version: 1.25.0 Command: /Library/Frameworks/R.framework/Resources/bin/R CMD build --keep-empty-dirs --no-resave-data DelayedDataFrame StartedAt: 2025-10-24 16:48:46 -0400 (Fri, 24 Oct 2025) EndedAt: 2025-10-24 16:49:27 -0400 (Fri, 24 Oct 2025) EllapsedTime: 41.3 seconds RetCode: 0 Status: OK PackageFile: DelayedDataFrame_1.25.0.tar.gz PackageFileSize: 486.4 KiB