Package: DelayedDataFrame Version: 1.25.0 Command: rm -rf DelayedDataFrame.buildbin-libdir && mkdir DelayedDataFrame.buildbin-libdir && /Users/biocbuild/BBS/utils/build-universal.sh DelayedDataFrame_1.25.0.tar.gz /Library/Frameworks/R.framework/Resources/bin/R DelayedDataFrame.buildbin-libdir StartedAt: 2025-10-25 01:36:31 -0400 (Sat, 25 Oct 2025) EndedAt: 2025-10-25 01:36:59 -0400 (Sat, 25 Oct 2025) EllapsedTime: 27.5 seconds RetCode: 0 Status: OK PackageFile: DelayedDataFrame_1.25.0.tgz PackageFileSize: 916.1 KiB