Package: DelayedDataFrame Version: 1.25.0 Command: /Library/Frameworks/R.framework/Resources/bin/R CMD check --install=check:DelayedDataFrame.install-out.txt --library=/Library/Frameworks/R.framework/Resources/library --no-vignettes --timings DelayedDataFrame_1.25.0.tar.gz StartedAt: 2025-10-24 19:23:54 -0400 (Fri, 24 Oct 2025) EndedAt: 2025-10-24 19:24:42 -0400 (Fri, 24 Oct 2025) EllapsedTime: 47.6 seconds RetCode: 0 Status: OK CheckDir: DelayedDataFrame.Rcheck Warnings: 0