Package: DelayedDataFrame Version: 1.25.0 Command: rm -rf DelayedDataFrame.buildbin-libdir && mkdir DelayedDataFrame.buildbin-libdir && /Users/biocbuild/BBS/utils/build-universal.sh DelayedDataFrame_1.25.0.tar.gz /Library/Frameworks/R.framework/Resources/bin/R DelayedDataFrame.buildbin-libdir StartedAt: 2025-10-24 23:00:26 -0400 (Fri, 24 Oct 2025) EndedAt: 2025-10-24 23:00:35 -0400 (Fri, 24 Oct 2025) EllapsedTime: 8.2 seconds RetCode: 0 Status: OK PackageFile: DelayedDataFrame_1.25.0.tgz PackageFileSize: 916.5 KiB