Package: DelayedArray Version: 0.35.3 Command: /home/biocbuild/R/R/bin/R CMD INSTALL DelayedArray StartedAt: 2025-10-23 20:34:26 -0000 (Thu, 23 Oct 2025) EndedAt: 2025-10-23 20:35:07 -0000 (Thu, 23 Oct 2025) EllapsedTime: 40.9 seconds RetCode: 0 Status: OK