Package: DelayedArray Version: 0.35.3 Command: /home/biocbuild/R/R/bin/R CMD build --keep-empty-dirs --no-resave-data DelayedArray StartedAt: 2025-10-20 23:15:33 -0000 (Mon, 20 Oct 2025) EndedAt: 2025-10-20 23:16:48 -0000 (Mon, 20 Oct 2025) EllapsedTime: 75.0 seconds RetCode: 0 Status: OK PackageFile: DelayedArray_0.35.3.tar.gz PackageFileSize: 808.6 KiB