Package: DelayedArray Version: 0.35.3 Command: /home/biocbuild/bbs-3.22-bioc/R/bin/R CMD INSTALL DelayedArray StartedAt: 2025-10-24 15:25:42 -0400 (Fri, 24 Oct 2025) EndedAt: 2025-10-24 15:26:10 -0400 (Fri, 24 Oct 2025) EllapsedTime: 28.5 seconds RetCode: 0 Status: OK