Package: DelayedArray Version: 0.35.3 Command: _R_CHECK_CODETOOLS_PROFILE_="suppressFundefMismatch=TRUE" /home/biocbuild/bbs-3.22-bioc/R/bin/R CMD check --install=check:DelayedArray.install-out.txt --library=/home/biocbuild/bbs-3.22-bioc/R/site-library --timings DelayedArray_0.35.3.tar.gz StartedAt: 2025-10-24 22:57:45 -0400 (Fri, 24 Oct 2025) EndedAt: 2025-10-24 23:22:44 -0400 (Fri, 24 Oct 2025) EllapsedTime: 1499.3 seconds RetCode: 0 Status: WARNINGS CheckDir: DelayedArray.Rcheck Warnings: 1