Package: DelayedArray Version: 0.35.3 Command: /home/biocbuild/bbs-3.22-bioc/R/bin/R CMD build --keep-empty-dirs --no-resave-data --md5 DelayedArray StartedAt: 2025-10-24 17:24:06 -0400 (Fri, 24 Oct 2025) EndedAt: 2025-10-24 17:25:03 -0400 (Fri, 24 Oct 2025) EllapsedTime: 57.1 seconds RetCode: 0 Status: OK PackageFile: DelayedArray_0.35.3.tar.gz PackageFileSize: 797.6 KiB