Package: DelayedArray Version: 0.35.3 Command: /Library/Frameworks/R.framework/Resources/bin/R CMD INSTALL DelayedArray StartedAt: 2025-10-24 15:25:13 -0400 (Fri, 24 Oct 2025) EndedAt: 2025-10-24 15:25:53 -0400 (Fri, 24 Oct 2025) EllapsedTime: 39.5 seconds RetCode: 0 Status: OK