Package: DelayedArray Version: 0.35.3 Command: _R_CHECK_CODETOOLS_PROFILE_="suppressFundefMismatch=TRUE" /Library/Frameworks/R.framework/Resources/bin/R CMD check --install=check:DelayedArray.install-out.txt --library=/Library/Frameworks/R.framework/Resources/library --no-vignettes --timings DelayedArray_0.35.3.tar.gz StartedAt: 2025-10-24 20:41:41 -0400 (Fri, 24 Oct 2025) EndedAt: 2025-10-24 21:13:55 -0400 (Fri, 24 Oct 2025) EllapsedTime: 1933.5 seconds RetCode: 0 Status: WARNINGS CheckDir: DelayedArray.Rcheck Warnings: 1