Package: DelayedArray Version: 0.35.3 Command: rm -rf DelayedArray.buildbin-libdir && mkdir DelayedArray.buildbin-libdir && /Users/biocbuild/BBS/utils/build-universal.sh DelayedArray_0.35.3.tar.gz /Library/Frameworks/R.framework/Resources/bin/R DelayedArray.buildbin-libdir StartedAt: 2025-10-25 01:36:31 -0400 (Sat, 25 Oct 2025) EndedAt: 2025-10-25 01:37:17 -0400 (Sat, 25 Oct 2025) EllapsedTime: 45.6 seconds RetCode: 0 Status: OK PackageFile: DelayedArray_0.35.3.tgz PackageFileSize: 2.402 MiB