Package: DelayedArray Version: 0.35.3 Command: /Library/Frameworks/R.framework/Resources/bin/R CMD INSTALL DelayedArray StartedAt: 2025-10-24 15:10:42 -0400 (Fri, 24 Oct 2025) EndedAt: 2025-10-24 15:10:54 -0400 (Fri, 24 Oct 2025) EllapsedTime: 11.8 seconds RetCode: 0 Status: OK