Package: DelayedArray Version: 0.35.3 Command: /Library/Frameworks/R.framework/Resources/bin/R CMD build --keep-empty-dirs --no-resave-data DelayedArray StartedAt: 2025-10-24 16:12:29 -0400 (Fri, 24 Oct 2025) EndedAt: 2025-10-24 16:12:56 -0400 (Fri, 24 Oct 2025) EllapsedTime: 27.3 seconds RetCode: 0 Status: OK PackageFile: DelayedArray_0.35.3.tar.gz PackageFileSize: 794.7 KiB