Package: DegNorm Version: 1.19.1 Command: /home/biocbuild/bbs-3.22-bioc/R/bin/R CMD INSTALL DegNorm StartedAt: 2025-10-24 15:50:26 -0400 (Fri, 24 Oct 2025) EndedAt: 2025-10-24 15:51:21 -0400 (Fri, 24 Oct 2025) EllapsedTime: 55.4 seconds RetCode: 0 Status: OK