Package: DegNorm Version: 1.19.1 Command: /home/biocbuild/bbs-3.22-bioc/R/bin/R CMD build --keep-empty-dirs --no-resave-data --md5 DegNorm StartedAt: 2025-10-24 17:23:30 -0400 (Fri, 24 Oct 2025) EndedAt: 2025-10-24 17:28:34 -0400 (Fri, 24 Oct 2025) EllapsedTime: 304.3 seconds RetCode: 0 Status: OK PackageFile: DegNorm_1.19.1.tar.gz PackageFileSize: 3.369 MiB