Package: DegCre Version: 1.5.1 Command: /home/biocbuild/bbs-3.22-bioc/R/bin/R CMD INSTALL DegCre StartedAt: 2025-10-24 15:53:37 -0400 (Fri, 24 Oct 2025) EndedAt: 2025-10-24 15:54:22 -0400 (Fri, 24 Oct 2025) EllapsedTime: 44.1 seconds RetCode: 0 Status: OK