Package: DeepTarget Version: 1.4.0 Command: /Library/Frameworks/R.framework/Resources/bin/R CMD INSTALL DeepTarget StartedAt: 2025-10-29 22:12:27 -0400 (Wed, 29 Oct 2025) EndedAt: 2025-10-29 22:12:57 -0400 (Wed, 29 Oct 2025) EllapsedTime: 29.2 seconds RetCode: 0 Status: OK